BEGIN:VCALENDAR
VERSION:2.0
PRODID:icalendar-ruby
CALSCALE:GREGORIAN
METHOD:PUBLISH
BEGIN:VEVENT
DTSTAMP:20260423T091412Z
UID:71-293597@memluth.org
DTSTART:20260403T230000Z
DTEND:20260404T000000Z
CLASS:PUBLIC
CREATED:20260305T090007
DESCRIPTION:
LAST-MODIFIED:20260305T090007
LOCATION:Memorial Lutheran Church
SUMMARY:Good Friday Service
URL;VALUE=URI:https://www.memluth.org/events/good-friday-service--71/2026-0
 4-03
ATTACH;FILENAME=good-friday.jpg;FMTTYPE=image/jpeg:https://dq5pwpg1q8ru0.cl
 oudfront.net/2026/03/05/14/00/06/0252563c-da74-4616-abb9-3442c67a9720/good
 -friday.jpg
END:VEVENT
END:VCALENDAR
