BEGIN:VCALENDAR
VERSION:2.0
PRODID:icalendar-ruby
CALSCALE:GREGORIAN
METHOD:PUBLISH
BEGIN:VEVENT
DTSTAMP:20260425T025028Z
UID:21-390145@memluth.org
DTSTART:20261004T130000Z
DTEND:20261004T135500Z
CLASS:PUBLIC
CREATED:20260424T211945
DESCRIPTION:Sunday School classes for all ages will begin on Sunday\, Octob
 er 1st at 9:00 am.\n 
LAST-MODIFIED:20260424T211945
LOCATION:Memorial Lutheran Church 
SUMMARY:Sunday School Classes for All Ages
URL;VALUE=URI:https://www.memluth.org/events/sunday-school-classes-for-all-
 ages/2026-10-04
ATTACH;FILENAME=box_26952c.jpg;FMTTYPE=image/jpeg:https://dq5pwpg1q8ru0.clo
 udfront.net/2023/09/14/05/38/53/417c06ce-f7d2-4f41-be7c-ad86790a9657/box_2
 6952c.jpg
END:VEVENT
END:VCALENDAR
